BEGIN:VCALENDAR
VERSION:2.0
PRODID:-//Brevard County Bar Association - ECPv6.15.20//NONSGML v1.0//EN
CALSCALE:GREGORIAN
METHOD:PUBLISH
X-ORIGINAL-URL:https://www.brevardbar.org
X-WR-CALDESC:Events for Brevard County Bar Association
REFRESH-INTERVAL;VALUE=DURATION:PT1H
X-Robots-Tag:noindex
X-PUBLISHED-TTL:PT1H
BEGIN:VTIMEZONE
TZID:America/New_York
BEGIN:DAYLIGHT
TZOFFSETFROM:-0500
TZOFFSETTO:-0400
TZNAME:EDT
DTSTART:20220313T070000
END:DAYLIGHT
BEGIN:STANDARD
TZOFFSETFROM:-0400
TZOFFSETTO:-0500
TZNAME:EST
DTSTART:20221106T060000
END:STANDARD
BEGIN:DAYLIGHT
TZOFFSETFROM:-0500
TZOFFSETTO:-0400
TZNAME:EDT
DTSTART:20230312T070000
END:DAYLIGHT
BEGIN:STANDARD
TZOFFSETFROM:-0400
TZOFFSETTO:-0500
TZNAME:EST
DTSTART:20231105T060000
END:STANDARD
BEGIN:DAYLIGHT
TZOFFSETFROM:-0500
TZOFFSETTO:-0400
TZNAME:EDT
DTSTART:20240310T070000
END:DAYLIGHT
BEGIN:STANDARD
TZOFFSETFROM:-0400
TZOFFSETTO:-0500
TZNAME:EST
DTSTART:20241103T060000
END:STANDARD
END:VTIMEZONE
BEGIN:VEVENT
DTSTART;TZID=America/New_York:20230908T120000
DTEND;TZID=America/New_York:20230908T140000
DTSTAMP:20260422T104528
CREATED:20230804T154153Z
LAST-MODIFIED:20230824T204838Z
UID:5106-1694174400-1694181600@www.brevardbar.org
SUMMARY:National Security CLE
DESCRIPTION:“BCBA Gives Back” is the 2023-2024 initiative presented by President Valeta Cameron. A variety of charitable organizations have been selected to bring community awareness and also garner support (monetary & non-monetary) from the BCBA. Please note that all donations and voluntary not required.\n \n– BCBA Gives Back – WAYS for Life Golf Tournament –\nBCBA will be collecting donations at the CLE to benefit WAYS for Life Brevard’s Annual Golf Tournament. For information about their organization or to participate in the golf tournament\, please visit www.waysforlife.org
URL:https://www.brevardbar.org/event/national-security-cle/
LOCATION:Office of the State Attorney\, 2725 Judge Fran Jamieson Way\, Bldg D\, Viera\, FL\, 32940\, United States
CATEGORIES:CLE
ATTACH;FMTTYPE=image/jpeg:https://www.brevardbar.org/wp-content/uploads/2023/08/National-Security-CLE-4.jpg
ORGANIZER;CN="Rebecca Alpizar":MAILTO:bcba@brevardbar.org
END:VEVENT
END:VCALENDAR