BEGIN:VCALENDAR
VERSION:2.0
PRODID:-//Brevard County Bar Association - ECPv6.15.20//NONSGML v1.0//EN
CALSCALE:GREGORIAN
METHOD:PUBLISH
X-WR-CALNAME:Brevard County Bar Association
X-ORIGINAL-URL:https://www.brevardbar.org
X-WR-CALDESC:Events for Brevard County Bar Association
REFRESH-INTERVAL;VALUE=DURATION:PT1H
X-Robots-Tag:noindex
X-PUBLISHED-TTL:PT1H
BEGIN:VTIMEZONE
TZID:America/New_York
BEGIN:DAYLIGHT
TZOFFSETFROM:-0500
TZOFFSETTO:-0400
TZNAME:EDT
DTSTART:20230312T070000
END:DAYLIGHT
BEGIN:STANDARD
TZOFFSETFROM:-0400
TZOFFSETTO:-0500
TZNAME:EST
DTSTART:20231105T060000
END:STANDARD
BEGIN:DAYLIGHT
TZOFFSETFROM:-0500
TZOFFSETTO:-0400
TZNAME:EDT
DTSTART:20240310T070000
END:DAYLIGHT
BEGIN:STANDARD
TZOFFSETFROM:-0400
TZOFFSETTO:-0500
TZNAME:EST
DTSTART:20241103T060000
END:STANDARD
BEGIN:DAYLIGHT
TZOFFSETFROM:-0500
TZOFFSETTO:-0400
TZNAME:EDT
DTSTART:20250309T070000
END:DAYLIGHT
BEGIN:STANDARD
TZOFFSETFROM:-0400
TZOFFSETTO:-0500
TZNAME:EST
DTSTART:20251102T060000
END:STANDARD
END:VTIMEZONE
BEGIN:VEVENT
DTSTART;TZID=America/New_York:20240308T090000
DTEND;TZID=America/New_York:20240308T120000
DTSTAMP:20260422T012445
CREATED:20240131T195704Z
LAST-MODIFIED:20240307T135626Z
UID:6404-1709888400-1709899200@www.brevardbar.org
SUMMARY:2024 BCBA Spring CLE
DESCRIPTION:Spring is in the air! This year’s event will feature two great speakers\, presenting on technology and the importance of mental health. \nThis CLE is open to paralegals as well!!\nThe CLE will include breakfast buffet & snack break. Credits: 2.5 Gen (1.0 Technology/1.5 Mental Health)\n*BCBA Gives Back – Special Presentation from Club Esteem\, Inc.*\nFor questions or if you’d like to sponsor this event\, please contact Rebecca Alpizar at bcba@brevardbar.org
URL:https://www.brevardbar.org/event/2024-bcba-spring-cle/
LOCATION:Holiday Inn – Viera\, 8298 N. Wickham Rd.\, Melbourne\, FL\, 32940\, United States
CATEGORIES:CLE
ATTACH;FMTTYPE=image/jpeg:https://www.brevardbar.org/wp-content/uploads/2024/01/Spring-CLE_Flyer2-1.jpg
ORGANIZER;CN="Rebecca Alpizar":MAILTO:bcba@brevardbar.org
END:VEVENT
END:VCALENDAR