BEGIN:VCALENDAR
VERSION:2.0
PRODID:-//Brevard County Bar Association - ECPv6.15.20//NONSGML v1.0//EN
CALSCALE:GREGORIAN
METHOD:PUBLISH
X-WR-CALNAME:Brevard County Bar Association
X-ORIGINAL-URL:https://www.brevardbar.org
X-WR-CALDESC:Events for Brevard County Bar Association
REFRESH-INTERVAL;VALUE=DURATION:PT1H
X-Robots-Tag:noindex
X-PUBLISHED-TTL:PT1H
BEGIN:VTIMEZONE
TZID:America/New_York
BEGIN:DAYLIGHT
TZOFFSETFROM:-0500
TZOFFSETTO:-0400
TZNAME:EDT
DTSTART:20230312T070000
END:DAYLIGHT
BEGIN:STANDARD
TZOFFSETFROM:-0400
TZOFFSETTO:-0500
TZNAME:EST
DTSTART:20231105T060000
END:STANDARD
BEGIN:DAYLIGHT
TZOFFSETFROM:-0500
TZOFFSETTO:-0400
TZNAME:EDT
DTSTART:20240310T070000
END:DAYLIGHT
BEGIN:STANDARD
TZOFFSETFROM:-0400
TZOFFSETTO:-0500
TZNAME:EST
DTSTART:20241103T060000
END:STANDARD
BEGIN:DAYLIGHT
TZOFFSETFROM:-0500
TZOFFSETTO:-0400
TZNAME:EDT
DTSTART:20250309T070000
END:DAYLIGHT
BEGIN:STANDARD
TZOFFSETFROM:-0400
TZOFFSETTO:-0500
TZNAME:EST
DTSTART:20251102T060000
END:STANDARD
END:VTIMEZONE
BEGIN:VEVENT
DTSTART;TZID=America/New_York:20240417T170000
DTEND;TZID=America/New_York:20240417T190000
DTSTAMP:20260421T234331
CREATED:20240214T212317Z
LAST-MODIFIED:20240306T174946Z
UID:6459-1713373200-1713380400@www.brevardbar.org
SUMMARY:2024 Happy Hour CLE
DESCRIPTION:Happy Hour CLE\nWEDNESDAY\, APRIL 17TH  │  5PM – 7PM  \nHotel Melby – 801 E. Strawbridge Ave.\, Melbourne\, FL  \nSPONSORED BY:\nCharpentier Law Firm\, P.A. \nCLE PRESENTATION:\n“Talk To Me – Why Communication Skills Are Important” \nSPEAKER:\nSteve Charpentier\, Esq. \n FREE TO ALL BCBA MEMBERS & PARALEGALS!! \nRSVP by April 15th \n  \nFor questions or inquiries\, contact: Rebecca Alpizar at bcba@brevardbar.org \n 
URL:https://www.brevardbar.org/event/2024-happy-hour-cle/
LOCATION:Hotel Melby\, 801 E. Strawbridge Ave.\, Melbourne\, FL\, 32901\, United States
CATEGORIES:CLE
ATTACH;FMTTYPE=image/jpeg:https://www.brevardbar.org/wp-content/uploads/2024/02/24_Happy-Hour-CLE_April-1.jpg
ORGANIZER;CN="Rebecca Alpizar":MAILTO:bcba@brevardbar.org
END:VEVENT
END:VCALENDAR