BEGIN:VCALENDAR
VERSION:2.0
PRODID:-//Brevard County Bar Association - ECPv6.15.20//NONSGML v1.0//EN
CALSCALE:GREGORIAN
METHOD:PUBLISH
X-ORIGINAL-URL:https://www.brevardbar.org
X-WR-CALDESC:Events for Brevard County Bar Association
REFRESH-INTERVAL;VALUE=DURATION:PT1H
X-Robots-Tag:noindex
X-PUBLISHED-TTL:PT1H
BEGIN:VTIMEZONE
TZID:America/New_York
BEGIN:DAYLIGHT
TZOFFSETFROM:-0500
TZOFFSETTO:-0400
TZNAME:EDT
DTSTART:20230312T070000
END:DAYLIGHT
BEGIN:STANDARD
TZOFFSETFROM:-0400
TZOFFSETTO:-0500
TZNAME:EST
DTSTART:20231105T060000
END:STANDARD
BEGIN:DAYLIGHT
TZOFFSETFROM:-0500
TZOFFSETTO:-0400
TZNAME:EDT
DTSTART:20240310T070000
END:DAYLIGHT
BEGIN:STANDARD
TZOFFSETFROM:-0400
TZOFFSETTO:-0500
TZNAME:EST
DTSTART:20241103T060000
END:STANDARD
BEGIN:DAYLIGHT
TZOFFSETFROM:-0500
TZOFFSETTO:-0400
TZNAME:EDT
DTSTART:20250309T070000
END:DAYLIGHT
BEGIN:STANDARD
TZOFFSETFROM:-0400
TZOFFSETTO:-0500
TZNAME:EST
DTSTART:20251102T060000
END:STANDARD
END:VTIMEZONE
BEGIN:VEVENT
DTSTART;TZID=America/New_York:20240912T113000
DTEND;TZID=America/New_York:20240912T130000
DTSTAMP:20260421T152600
CREATED:20240829T153205Z
LAST-MODIFIED:20240829T153205Z
UID:8203-1726140600-1726146000@www.brevardbar.org
SUMMARY:September Criminal Law Luncheon
DESCRIPTION:Join the BCBA at a quarterly social luncheon of criminal lawyers! All Judges\, ASA’s\, PD’s & criminal defense attorneys invited to attend! \n**Luncheon will be held in courtroom 4D!**\nSPECIAL GUEST SPEAKER: Rachel Richardson & Samantha Eastman \n“Navigating the Probation Pitfalls” \nCLE Credit: Pending \nCost: $15 (includes lunch) \nTo register\, visit www.brevardbar.org/events \n  \nIf you or your firm is interested in sponsoring the quarterly luncheons\,  \nplease contact Rebecca Alpizar: bcba@brevardbar.org
URL:https://www.brevardbar.org/event/september-criminal-law-luncheon-2/
LOCATION:Viera Courthouse\, 2825 Judge Fran Jamieson Way\, Melbourne\, FL\, 32940\, United States
CATEGORIES:CLE,Luncheon
ATTACH;FMTTYPE=image/jpeg:https://www.brevardbar.org/wp-content/uploads/2024/08/24_Criminal-Luncheon_September.jpg
ORGANIZER;CN="Rebecca Alpizar":MAILTO:bcba@brevardbar.org
END:VEVENT
BEGIN:VEVENT
DTSTART;TZID=America/New_York:20240919T180000
DTEND;TZID=America/New_York:20240919T210000
DTSTAMP:20260421T152600
CREATED:20240801T002417Z
LAST-MODIFIED:20240916T121654Z
UID:7818-1726768800-1726779600@www.brevardbar.org
SUMMARY:BCBA "Celebrates Festivus" Happy Hour CLE
DESCRIPTION:Seinfeld had a Festivus Pole and Feats of Strength.  Neither of which is very practical for a Brevard County Bar Association event.   \n You will have to settle for an “Airing of the Grievances!” The BCBA invites you to the inaugural “Airing of the Grievances” CLE.   The panel discussion will have five judges and five attorneys squaring off to discuss topics and issues facing the Bench and Bar.  Join us for a lively and entertaining discussion of issues facing lawyers and judges\, all with the desire to raise the standards of practice for all. \nTopics include professionalism\, practice\, practical advice\, and pearls of wisdom that you won’t want to miss! \nTickets: $20 (Incl. Hors d’ouevres & CLE credit)\nCLE Credits: General 2.0; Professionalism 1.0) \nFREE to New Members & Young Lawyers \nSPONSORSHIPS AVAILABLE! \n24_Fall CLE_Sponsor Levels \nIf you or your firm would like to sponsor this event\, please contact bcba@brevardbar.org \n 
URL:https://www.brevardbar.org/event/bcba-celebrates-festivus-happy-hour-cle/
LOCATION:Crowne Plaza Melbourne Oceanfront\, 2605 North Highway A1A\, Melbourne\, FL\, 32903\, United States
CATEGORIES:CLE
ATTACH;FMTTYPE=application/pdf:https://www.brevardbar.org/wp-content/uploads/2024/07/24_Airing-of-Grievances_Flyer-1.pdf
ORGANIZER;CN="Rebecca Alpizar":MAILTO:bcba@brevardbar.org
END:VEVENT
END:VCALENDAR