BEGIN:VCALENDAR
VERSION:2.0
PRODID:-//Brevard County Bar Association - ECPv6.15.20//NONSGML v1.0//EN
CALSCALE:GREGORIAN
METHOD:PUBLISH
X-WR-CALNAME:Brevard County Bar Association
X-ORIGINAL-URL:https://www.brevardbar.org
X-WR-CALDESC:Events for Brevard County Bar Association
REFRESH-INTERVAL;VALUE=DURATION:PT1H
X-Robots-Tag:noindex
X-PUBLISHED-TTL:PT1H
BEGIN:VTIMEZONE
TZID:America/New_York
BEGIN:DAYLIGHT
TZOFFSETFROM:-0500
TZOFFSETTO:-0400
TZNAME:EDT
DTSTART:20230312T070000
END:DAYLIGHT
BEGIN:STANDARD
TZOFFSETFROM:-0400
TZOFFSETTO:-0500
TZNAME:EST
DTSTART:20231105T060000
END:STANDARD
BEGIN:DAYLIGHT
TZOFFSETFROM:-0500
TZOFFSETTO:-0400
TZNAME:EDT
DTSTART:20240310T070000
END:DAYLIGHT
BEGIN:STANDARD
TZOFFSETFROM:-0400
TZOFFSETTO:-0500
TZNAME:EST
DTSTART:20241103T060000
END:STANDARD
BEGIN:DAYLIGHT
TZOFFSETFROM:-0500
TZOFFSETTO:-0400
TZNAME:EDT
DTSTART:20250309T070000
END:DAYLIGHT
BEGIN:STANDARD
TZOFFSETFROM:-0400
TZOFFSETTO:-0500
TZNAME:EST
DTSTART:20251102T060000
END:STANDARD
END:VTIMEZONE
BEGIN:VEVENT
DTSTART;TZID=America/New_York:20241107T113000
DTEND;TZID=America/New_York:20241107T130000
DTSTAMP:20260421T152320
CREATED:20241016T151016Z
LAST-MODIFIED:20241016T151016Z
UID:8490-1730979000-1730984400@www.brevardbar.org
SUMMARY:November Criminal Law Luncheon
DESCRIPTION:Join the BCBA at a quarterly social luncheon of criminal lawyers! All Judges\, ASA’s\, PD’s & criminal defense attorneys invited to attend! \n SPECIAL GUEST SPEAKER: Jason Webb\, LMHC \n“Forensic Multidisciplinary Program @ Circles of Care\, Inc.” \nCLE Credit: 1.0 (General) \n Cost: $15 (includes lunch)
URL:https://www.brevardbar.org/event/november-criminal-law-luncheon-2/
LOCATION:A. Max Brewer Law Library\, 2825 Judge Fran Jamieson Way\, Viera\, FL\, 32940\, United States
CATEGORIES:CLE,Luncheon
ATTACH;FMTTYPE=image/jpeg:https://www.brevardbar.org/wp-content/uploads/2024/10/24_Criminal-Law-Luncheon_November.jpg
ORGANIZER;CN="Rebecca Alpizar":MAILTO:bcba@brevardbar.org
END:VEVENT
BEGIN:VEVENT
DTSTART;TZID=America/New_York:20241107T170000
DTEND;TZID=America/New_York:20241107T170000
DTSTAMP:20260421T152320
CREATED:20241014T144218Z
LAST-MODIFIED:20241106T183654Z
UID:8478-1730998800-1730998800@www.brevardbar.org
SUMMARY:Henry Mediation Happy Hour CLE
DESCRIPTION:30 Years of Mediation Advocacy in 30 Minutes\nHappy Hour CLE\n\nAt this happy hour CLE\, you will learn what is required of smart lawyers to obtain superlative results in mediation. With trial occurring in only 1% of filed cases\, mediation advocacy is critical. Hear how attorneys can become strong mediation advocates and how that core competency translates into attracting\, retaining\, and strengthening client relationships. This seminar debunks commonly held mediation myths\, and provides strategic and tactical suggestions for achieving good results. Learn how the new generation of trial lawyers graduate from advocate to trusted problem solver. \nCLE Credit: 0.5 (General)
URL:https://www.brevardbar.org/event/henry-mediation-happy-hour-cle/
LOCATION:Duran Golf Club\, 7032 Stadium Pkwy\, Melbourne\, FL\, 32940\, United States
CATEGORIES:CLE
ATTACH;FMTTYPE=image/png:https://www.brevardbar.org/wp-content/uploads/2024/10/Henry-Mediation-CLE2.png
ORGANIZER;CN="Rebecca Alpizar":MAILTO:bcba@brevardbar.org
END:VEVENT
END:VCALENDAR